Package: CexoR Version: 1.44.0 Command: /home/biocbuild/bbs-3.20-bioc/R/bin/R CMD check --install=check:CexoR.install-out.txt --library=/home/biocbuild/bbs-3.20-bioc/R/site-library --timings CexoR_1.44.0.tar.gz StartedAt: 2025-02-03 20:51:55 -0500 (Mon, 03 Feb 2025) EndedAt: 2025-02-03 20:56:57 -0500 (Mon, 03 Feb 2025) EllapsedTime: 302.4 seconds RetCode: 0 Status: OK CheckDir: CexoR.Rcheck Warnings: 0