Package: CexoR Version: 1.44.0 Command: /home/biocbuild/bbs-3.20-bioc/R/bin/R CMD INSTALL CexoR StartedAt: 2025-02-10 15:29:50 -0500 (Mon, 10 Feb 2025) EndedAt: 2025-02-10 15:30:24 -0500 (Mon, 10 Feb 2025) EllapsedTime: 33.5 seconds RetCode: 0 Status: OK