Package: CexoR Version: 1.44.0 Command: rm -rf CexoR.buildbin-libdir && mkdir CexoR.buildbin-libdir && F:\biocbuild\bbs-3.20-bioc\R\bin\R.exe CMD INSTALL --build --library=CexoR.buildbin-libdir CexoR_1.44.0.tar.gz StartedAt: 2025-02-11 08:07:32 -0500 (Tue, 11 Feb 2025) EndedAt: 2025-02-11 08:08:14 -0500 (Tue, 11 Feb 2025) EllapsedTime: 41.8 seconds RetCode: 0 Status: OK PackageFile: CexoR_1.44.0.zip PackageFileSize: 1.699 MiB