Package: CexoR Version: 1.44.0 Command: F:\biocbuild\bbs-3.20-bioc\R\bin\R.exe CMD check --no-multiarch --install=check:CexoR.install-out.txt --library=F:\biocbuild\bbs-3.20-bioc\R\library --no-vignettes --timings CexoR_1.44.0.tar.gz StartedAt: 2025-02-11 00:04:59 -0500 (Tue, 11 Feb 2025) EndedAt: 2025-02-11 00:11:01 -0500 (Tue, 11 Feb 2025) EllapsedTime: 362.4 seconds RetCode: 0 Status: OK CheckDir: CexoR.Rcheck Warnings: 0