Package: ChAMP Version: 2.36.0 Command: rm -rf ChAMP.buildbin-libdir && mkdir ChAMP.buildbin-libdir && /Users/biocbuild/BBS/utils/build-universal.sh ChAMP_2.36.0.tar.gz /Library/Frameworks/R.framework/Resources/bin/R ChAMP.buildbin-libdir StartedAt: 2025-02-05 15:10:41 -0500 (Wed, 05 Feb 2025) EndedAt: 2025-02-05 15:12:14 -0500 (Wed, 05 Feb 2025) EllapsedTime: 92.7 seconds RetCode: 0 Status: OK PackageFile: ChAMP_2.36.0.tgz PackageFileSize: 4.209 MiB