Package: ChAMP Version: 2.36.0 Command: /Library/Frameworks/R.framework/Resources/bin/R CMD build --keep-empty-dirs --no-resave-data ChAMP StartedAt: 2025-02-03 20:25:20 -0500 (Mon, 03 Feb 2025) EndedAt: 2025-02-03 20:27:55 -0500 (Mon, 03 Feb 2025) EllapsedTime: 155.6 seconds RetCode: 0 Status: OK PackageFile: ChAMP_2.36.0.tar.gz PackageFileSize: 7.967 MiB