Package: ChAMP Version: 2.36.0 Command: /Library/Frameworks/R.framework/Resources/bin/R CMD INSTALL ChAMP StartedAt: 2025-02-03 18:15:47 -0500 (Mon, 03 Feb 2025) EndedAt: 2025-02-03 18:17:12 -0500 (Mon, 03 Feb 2025) EllapsedTime: 85.3 seconds RetCode: 0 Status: OK