Package: ChAMP Version: 2.36.0 Command: /Library/Frameworks/R.framework/Resources/bin/R CMD check --install=check:ChAMP.install-out.txt --library=/Library/Frameworks/R.framework/Resources/library --no-vignettes --timings ChAMP_2.36.0.tar.gz StartedAt: 2025-02-04 01:06:27 -0500 (Tue, 04 Feb 2025) EndedAt: 2025-02-04 01:23:50 -0500 (Tue, 04 Feb 2025) EllapsedTime: 1043.0 seconds RetCode: 0 Status: WARNINGS CheckDir: ChAMP.Rcheck Warnings: 2