Package: ChAMP Version: 2.36.0 Command: /home/biocbuild/bbs-3.20-bioc/R/bin/R CMD check --install=check:ChAMP.install-out.txt --library=/home/biocbuild/bbs-3.20-bioc/R/site-library --timings ChAMP_2.36.0.tar.gz StartedAt: 2025-02-03 20:54:12 -0500 (Mon, 03 Feb 2025) EndedAt: 2025-02-03 21:03:08 -0500 (Mon, 03 Feb 2025) EllapsedTime: 535.6 seconds RetCode: 0 Status: WARNINGS CheckDir: ChAMP.Rcheck Warnings: 2