Package: ChAMP Version: 2.36.0 Command: /home/biocbuild/bbs-3.20-bioc/R/bin/R CMD INSTALL ChAMP StartedAt: 2025-02-03 16:15:32 -0500 (Mon, 03 Feb 2025) EndedAt: 2025-02-03 16:16:31 -0500 (Mon, 03 Feb 2025) EllapsedTime: 58.9 seconds RetCode: 0 Status: OK