Package: ChAMP Version: 2.36.0 Command: F:\biocbuild\bbs-3.20-bioc\R\bin\R.exe CMD INSTALL ChAMP StartedAt: 2025-02-03 17:21:25 -0500 (Mon, 03 Feb 2025) EndedAt: 2025-02-03 17:22:33 -0500 (Mon, 03 Feb 2025) EllapsedTime: 67.3 seconds RetCode: 0 Status: OK