Package: ChAMP Version: 2.36.0 Command: /home/biocbuild/R/R/bin/R CMD check --install=check:ChAMP.install-out.txt --library=/home/biocbuild/R/R/site-library --no-vignettes --timings ChAMP_2.36.0.tar.gz StartedAt: 2025-02-04 05:32:29 -0000 (Tue, 04 Feb 2025) EndedAt: 2025-02-04 05:42:05 -0000 (Tue, 04 Feb 2025) EllapsedTime: 576.5 seconds RetCode: 0 Status: WARNINGS CheckDir: ChAMP.Rcheck Warnings: 2