Package: ChIPComp Version: 1.36.0 Command: /Library/Frameworks/R.framework/Resources/bin/R CMD build --keep-empty-dirs --no-resave-data ChIPComp StartedAt: 2025-01-30 17:53:03 -0500 (Thu, 30 Jan 2025) EndedAt: 2025-01-30 17:54:59 -0500 (Thu, 30 Jan 2025) EllapsedTime: 116.3 seconds RetCode: 0 Status: OK PackageFile: ChIPComp_1.36.0.tar.gz PackageFileSize: 594.5 KiB