Package: ChIPComp Version: 1.36.0 Command: chmod a+r ChIPComp -R && F:\biocbuild\bbs-3.20-bioc\R\bin\R.exe CMD build --keep-empty-dirs --no-resave-data ChIPComp StartedAt: 2025-02-03 18:05:49 -0500 (Mon, 03 Feb 2025) EndedAt: 2025-02-03 18:07:03 -0500 (Mon, 03 Feb 2025) EllapsedTime: 74.1 seconds RetCode: 0 Status: OK PackageFile: ChIPComp_1.36.0.tar.gz PackageFileSize: 596.5 KiB