Package: ChIPComp Version: 1.36.0 Command: /home/biocbuild/R/R/bin/R CMD build --keep-empty-dirs --no-resave-data ChIPComp StartedAt: 2025-01-30 22:32:52 -0000 (Thu, 30 Jan 2025) EndedAt: 2025-01-30 22:33:52 -0000 (Thu, 30 Jan 2025) EllapsedTime: 60.0 seconds RetCode: 0 Status: OK PackageFile: ChIPComp_1.36.0.tar.gz PackageFileSize: 589.1 KiB