Package: ChIPComp Version: 1.36.0 Command: /home/biocbuild/R/R/bin/R CMD INSTALL ChIPComp StartedAt: 2025-01-30 20:27:53 -0000 (Thu, 30 Jan 2025) EndedAt: 2025-01-30 20:28:30 -0000 (Thu, 30 Jan 2025) EllapsedTime: 36.8 seconds RetCode: 0 Status: OK