Package: ChIPQC Version: 1.42.0 Command: rm -rf ChIPQC.buildbin-libdir && mkdir ChIPQC.buildbin-libdir && /Users/biocbuild/BBS/utils/build-universal.sh ChIPQC_1.42.0.tar.gz /Library/Frameworks/R.framework/Resources/bin/R ChIPQC.buildbin-libdir StartedAt: 2025-02-01 14:16:58 -0500 (Sat, 01 Feb 2025) EndedAt: 2025-02-01 14:18:08 -0500 (Sat, 01 Feb 2025) EllapsedTime: 69.8 seconds RetCode: 0 Status: OK PackageFile: ChIPQC_1.42.0.tgz PackageFileSize: 2.084 MiB