Package: ChIPQC Version: 1.42.0 Command: /Library/Frameworks/R.framework/Resources/bin/R CMD build --keep-empty-dirs --no-resave-data ChIPQC StartedAt: 2025-01-30 17:53:55 -0500 (Thu, 30 Jan 2025) EndedAt: 2025-01-30 17:57:00 -0500 (Thu, 30 Jan 2025) EllapsedTime: 185.2 seconds RetCode: 0 Status: OK PackageFile: ChIPQC_1.42.0.tar.gz PackageFileSize: 1.523 MiB