Package: ChIPQC Version: 1.42.0 Command: /Library/Frameworks/R.framework/Resources/bin/R CMD INSTALL ChIPQC StartedAt: 2025-01-30 16:01:16 -0500 (Thu, 30 Jan 2025) EndedAt: 2025-01-30 16:03:13 -0500 (Thu, 30 Jan 2025) EllapsedTime: 116.4 seconds RetCode: 0 Status: OK