Package: ChIPQC Version: 1.42.0 Command: /home/biocbuild/bbs-3.20-bioc/R/bin/R CMD INSTALL ChIPQC StartedAt: 2025-02-03 15:44:08 -0500 (Mon, 03 Feb 2025) EndedAt: 2025-02-03 15:45:14 -0500 (Mon, 03 Feb 2025) EllapsedTime: 66.8 seconds RetCode: 0 Status: OK