Package: ChIPQC Version: 1.42.0 Command: chmod a+r ChIPQC -R && F:\biocbuild\bbs-3.20-bioc\R\bin\R.exe CMD build --keep-empty-dirs --no-resave-data ChIPQC StartedAt: 2025-01-30 17:53:47 -0500 (Thu, 30 Jan 2025) EndedAt: 2025-01-30 17:55:51 -0500 (Thu, 30 Jan 2025) EllapsedTime: 124.5 seconds RetCode: 0 Status: OK PackageFile: ChIPQC_1.42.0.tar.gz PackageFileSize: 1.527 MiB