Package: ChIPQC Version: 1.42.0 Command: F:\biocbuild\bbs-3.20-bioc\R\bin\R.exe CMD check --no-multiarch --install=check:ChIPQC.install-out.txt --library=F:\biocbuild\bbs-3.20-bioc\R\library --no-vignettes --timings ChIPQC_1.42.0.tar.gz StartedAt: 2025-01-31 00:26:49 -0500 (Fri, 31 Jan 2025) EndedAt: 2025-01-31 00:34:35 -0500 (Fri, 31 Jan 2025) EllapsedTime: 465.9 seconds RetCode: 0 Status: OK CheckDir: ChIPQC.Rcheck Warnings: 0