Package: ChIPQC Version: 1.42.0 Command: /home/biocbuild/R/R/bin/R CMD build --keep-empty-dirs --no-resave-data ChIPQC StartedAt: 2025-01-30 22:33:52 -0000 (Thu, 30 Jan 2025) EndedAt: 2025-01-30 22:35:29 -0000 (Thu, 30 Jan 2025) EllapsedTime: 97.0 seconds RetCode: 0 Status: OK PackageFile: ChIPQC_1.42.0.tar.gz PackageFileSize: 1.516 MiB