Package: ChIPQC Version: 1.42.0 Command: /home/biocbuild/R/R/bin/R CMD INSTALL ChIPQC StartedAt: 2025-01-30 20:42:05 -0000 (Thu, 30 Jan 2025) EndedAt: 2025-01-30 20:43:14 -0000 (Thu, 30 Jan 2025) EllapsedTime: 69.1 seconds RetCode: 0 Status: OK