Package: ChIPXpress Version: 1.50.0 Command: /Library/Frameworks/R.framework/Resources/bin/R CMD check --install=check:ChIPXpress.install-out.txt --library=/Library/Frameworks/R.framework/Resources/library --no-vignettes --timings ChIPXpress_1.50.0.tar.gz StartedAt: 2025-02-04 14:44:11 -0500 (Tue, 04 Feb 2025) EndedAt: 2025-02-04 14:48:32 -0500 (Tue, 04 Feb 2025) EllapsedTime: 261.1 seconds RetCode: 0 Status: OK CheckDir: ChIPXpress.Rcheck Warnings: 0