Package: ChIPXpress Version: 1.50.0 Command: /Library/Frameworks/R.framework/Resources/bin/R CMD build --keep-empty-dirs --no-resave-data ChIPXpress StartedAt: 2025-02-10 17:44:30 -0500 (Mon, 10 Feb 2025) EndedAt: 2025-02-10 17:46:16 -0500 (Mon, 10 Feb 2025) EllapsedTime: 106.6 seconds RetCode: 0 Status: OK PackageFile: ChIPXpress_1.50.0.tar.gz PackageFileSize: 447.6 KiB