Package: ChIPXpress Version: 1.50.0 Command: /home/biocbuild/bbs-3.20-bioc/R/bin/R CMD build --keep-empty-dirs --no-resave-data --md5 ChIPXpress StartedAt: 2025-02-10 16:42:09 -0500 (Mon, 10 Feb 2025) EndedAt: 2025-02-10 16:42:58 -0500 (Mon, 10 Feb 2025) EllapsedTime: 49.1 seconds RetCode: 0 Status: OK PackageFile: ChIPXpress_1.50.0.tar.gz PackageFileSize: 448.3 KiB