Package: ChIPXpress Version: 1.50.0 Command: /home/biocbuild/bbs-3.20-bioc/R/bin/R CMD check --install=check:ChIPXpress.install-out.txt --library=/home/biocbuild/bbs-3.20-bioc/R/site-library --timings ChIPXpress_1.50.0.tar.gz StartedAt: 2025-02-03 20:56:57 -0500 (Mon, 03 Feb 2025) EndedAt: 2025-02-03 21:00:39 -0500 (Mon, 03 Feb 2025) EllapsedTime: 222.2 seconds RetCode: 0 Status: OK CheckDir: ChIPXpress.Rcheck Warnings: 0