Package: ChIPXpress Version: 1.50.0 Command: /home/biocbuild/bbs-3.20-bioc/R/bin/R CMD INSTALL ChIPXpress StartedAt: 2025-02-03 15:26:38 -0500 (Mon, 03 Feb 2025) EndedAt: 2025-02-03 15:27:09 -0500 (Mon, 03 Feb 2025) EllapsedTime: 31.7 seconds RetCode: 0 Status: OK