Package: ChIPexoQual Version: 1.30.0 Command: rm -rf ChIPexoQual.buildbin-libdir && mkdir ChIPexoQual.buildbin-libdir && /Users/biocbuild/BBS/utils/build-universal.sh ChIPexoQual_1.30.0.tar.gz /Library/Frameworks/R.framework/Resources/bin/R ChIPexoQual.buildbin-libdir StartedAt: 2025-02-05 15:11:37 -0500 (Wed, 05 Feb 2025) EndedAt: 2025-02-05 15:12:36 -0500 (Wed, 05 Feb 2025) EllapsedTime: 58.7 seconds RetCode: 0 Status: OK PackageFile: ChIPexoQual_1.30.0.tgz PackageFileSize: 2.519 MiB