Package: ChIPexoQual Version: 1.30.0 Command: /Library/Frameworks/R.framework/Resources/bin/R CMD INSTALL ChIPexoQual StartedAt: 2025-02-03 16:38:26 -0500 (Mon, 03 Feb 2025) EndedAt: 2025-02-03 16:39:19 -0500 (Mon, 03 Feb 2025) EllapsedTime: 52.9 seconds RetCode: 0 Status: OK