Package: ChIPexoQual Version: 1.30.0 Command: /Library/Frameworks/R.framework/Resources/bin/R CMD build --keep-empty-dirs --no-resave-data ChIPexoQual StartedAt: 2025-02-03 17:49:13 -0500 (Mon, 03 Feb 2025) EndedAt: 2025-02-03 17:53:57 -0500 (Mon, 03 Feb 2025) EllapsedTime: 283.8 seconds RetCode: 0 Status: OK PackageFile: ChIPexoQual_1.30.0.tar.gz PackageFileSize: 2.457 MiB