Package: ChIPexoQual Version: 1.30.0 Command: /home/biocbuild/bbs-3.20-bioc/R/bin/R CMD build --keep-empty-dirs --no-resave-data --md5 ChIPexoQual StartedAt: 2025-01-30 16:39:13 -0500 (Thu, 30 Jan 2025) EndedAt: 2025-01-30 16:41:41 -0500 (Thu, 30 Jan 2025) EllapsedTime: 148.2 seconds RetCode: 0 Status: OK PackageFile: ChIPexoQual_1.30.0.tar.gz PackageFileSize: 2.344 MiB