Package: ChIPexoQual Version: 1.30.0 Command: /home/biocbuild/bbs-3.20-bioc/R/bin/R CMD check --install=check:ChIPexoQual.install-out.txt --library=/home/biocbuild/bbs-3.20-bioc/R/site-library --timings ChIPexoQual_1.30.0.tar.gz StartedAt: 2025-01-30 20:45:36 -0500 (Thu, 30 Jan 2025) EndedAt: 2025-01-30 20:53:57 -0500 (Thu, 30 Jan 2025) EllapsedTime: 500.5 seconds RetCode: 0 Status: OK CheckDir: ChIPexoQual.Rcheck Warnings: 0