Package: ChIPexoQual Version: 1.30.0 Command: rm -rf ChIPexoQual.buildbin-libdir && mkdir ChIPexoQual.buildbin-libdir && F:\biocbuild\bbs-3.20-bioc\R\bin\R.exe CMD INSTALL --build --library=ChIPexoQual.buildbin-libdir ChIPexoQual_1.30.0.tar.gz StartedAt: 2025-02-11 08:08:26 -0500 (Tue, 11 Feb 2025) EndedAt: 2025-02-11 08:09:29 -0500 (Tue, 11 Feb 2025) EllapsedTime: 63.4 seconds RetCode: 0 Status: OK PackageFile: ChIPexoQual_1.30.0.zip PackageFileSize: 2.198 MiB