Package: ChIPexoQual Version: 1.30.0 Command: /home/biocbuild/R/R/bin/R CMD build --keep-empty-dirs --no-resave-data ChIPexoQual StartedAt: 2025-02-03 22:33:45 -0000 (Mon, 03 Feb 2025) EndedAt: 2025-02-03 22:36:41 -0000 (Mon, 03 Feb 2025) EllapsedTime: 176.1 seconds RetCode: 0 Status: OK PackageFile: ChIPexoQual_1.30.0.tar.gz PackageFileSize: 2.167 MiB