Package: ChIPexoQual Version: 1.30.0 Command: /home/biocbuild/R/R/bin/R CMD INSTALL ChIPexoQual StartedAt: 2025-02-03 20:56:31 -0000 (Mon, 03 Feb 2025) EndedAt: 2025-02-03 20:57:26 -0000 (Mon, 03 Feb 2025) EllapsedTime: 54.3 seconds RetCode: 0 Status: OK