Package: ChIPpeakAnno Version: 3.40.0 Command: /Library/Frameworks/R.framework/Resources/bin/R CMD INSTALL ChIPpeakAnno StartedAt: 2025-01-30 17:29:56 -0500 (Thu, 30 Jan 2025) EndedAt: 2025-01-30 17:32:30 -0500 (Thu, 30 Jan 2025) EllapsedTime: 154.1 seconds RetCode: 0 Status: OK