Package: ChIPpeakAnno Version: 3.40.0 Command: rm -rf ChIPpeakAnno.buildbin-libdir && mkdir ChIPpeakAnno.buildbin-libdir && /Users/biocbuild/BBS/utils/build-universal.sh ChIPpeakAnno_3.40.0.tar.gz /Library/Frameworks/R.framework/Resources/bin/R ChIPpeakAnno.buildbin-libdir StartedAt: 2025-02-04 12:38:38 -0500 (Tue, 04 Feb 2025) EndedAt: 2025-02-04 12:42:14 -0500 (Tue, 04 Feb 2025) EllapsedTime: 215.6 seconds RetCode: 0 Status: OK PackageFile: ChIPpeakAnno_3.40.0.tgz PackageFileSize: 22.58 MiB