Package: ChIPpeakAnno Version: 3.40.0 Command: /Library/Frameworks/R.framework/Resources/bin/R CMD build --keep-empty-dirs --no-resave-data ChIPpeakAnno StartedAt: 2025-02-03 17:49:22 -0500 (Mon, 03 Feb 2025) EndedAt: 2025-02-03 18:25:54 -0500 (Mon, 03 Feb 2025) EllapsedTime: 2191.7 seconds RetCode: 0 Status: OK PackageFile: ChIPpeakAnno_3.40.0.tar.gz PackageFileSize: 21.47 MiB