Package: ChIPpeakAnno Version: 3.40.0 Command: /Library/Frameworks/R.framework/Resources/bin/R CMD INSTALL ChIPpeakAnno StartedAt: 2025-01-30 16:22:46 -0500 (Thu, 30 Jan 2025) EndedAt: 2025-01-30 16:26:11 -0500 (Thu, 30 Jan 2025) EllapsedTime: 205.2 seconds RetCode: 0 Status: OK