Package: ChIPpeakAnno Version: 3.40.0 Command: /home/biocbuild/bbs-3.20-bioc/R/bin/R CMD INSTALL ChIPpeakAnno StartedAt: 2025-02-03 15:55:05 -0500 (Mon, 03 Feb 2025) EndedAt: 2025-02-03 15:57:03 -0500 (Mon, 03 Feb 2025) EllapsedTime: 118.2 seconds RetCode: 0 Status: OK