Package: ChIPpeakAnno Version: 3.40.0 Command: /home/biocbuild/R/R/bin/R CMD INSTALL ChIPpeakAnno StartedAt: 2025-02-03 21:09:47 -0000 (Mon, 03 Feb 2025) EndedAt: 2025-02-03 21:11:52 -0000 (Mon, 03 Feb 2025) EllapsedTime: 124.6 seconds RetCode: 0 Status: OK