Package: ChIPseeker Version: 1.42.1 Command: rm -rf ChIPseeker.buildbin-libdir && mkdir ChIPseeker.buildbin-libdir && /Users/biocbuild/BBS/utils/build-universal.sh ChIPseeker_1.42.1.tar.gz /Library/Frameworks/R.framework/Resources/bin/R ChIPseeker.buildbin-libdir StartedAt: 2025-02-01 14:17:08 -0500 (Sat, 01 Feb 2025) EndedAt: 2025-02-01 14:18:07 -0500 (Sat, 01 Feb 2025) EllapsedTime: 58.4 seconds RetCode: 0 Status: OK PackageFile: ChIPseeker_1.42.1.tgz PackageFileSize: 7.394 MiB