Package: ChIPseeker Version: 1.42.1 Command: /Library/Frameworks/R.framework/Resources/bin/R CMD build --keep-empty-dirs --no-resave-data ChIPseeker StartedAt: 2025-01-30 20:38:55 -0500 (Thu, 30 Jan 2025) EndedAt: 2025-01-30 20:47:26 -0500 (Thu, 30 Jan 2025) EllapsedTime: 510.7 seconds RetCode: 0 Status: OK PackageFile: ChIPseeker_1.42.1.tar.gz PackageFileSize: 7.409 MiB