Package: ChIPseeker Version: 1.42.1 Command: /Library/Frameworks/R.framework/Resources/bin/R CMD check --install=check:ChIPseeker.install-out.txt --library=/Library/Frameworks/R.framework/Resources/library --no-vignettes --timings ChIPseeker_1.42.1.tar.gz StartedAt: 2025-01-31 14:11:00 -0500 (Fri, 31 Jan 2025) EndedAt: 2025-01-31 14:19:58 -0500 (Fri, 31 Jan 2025) EllapsedTime: 537.2 seconds RetCode: 0 Status: OK CheckDir: ChIPseeker.Rcheck Warnings: 0