Package: ChIPseeker Version: 1.42.1 Command: /Library/Frameworks/R.framework/Resources/bin/R CMD INSTALL ChIPseeker StartedAt: 2025-01-30 17:14:57 -0500 (Thu, 30 Jan 2025) EndedAt: 2025-01-30 17:15:53 -0500 (Thu, 30 Jan 2025) EllapsedTime: 56.3 seconds RetCode: 0 Status: OK