Package: ChIPseeker Version: 1.42.1 Command: rm -rf ChIPseeker.buildbin-libdir && mkdir ChIPseeker.buildbin-libdir && /Users/biocbuild/BBS/utils/build-universal.sh ChIPseeker_1.42.1.tar.gz /Library/Frameworks/R.framework/Resources/bin/R ChIPseeker.buildbin-libdir StartedAt: 2025-02-04 12:38:49 -0500 (Tue, 04 Feb 2025) EndedAt: 2025-02-04 12:40:31 -0500 (Tue, 04 Feb 2025) EllapsedTime: 101.5 seconds RetCode: 0 Status: OK PackageFile: ChIPseeker_1.42.1.tgz PackageFileSize: 7.394 MiB