Package: ChIPseeker Version: 1.42.1 Command: /Library/Frameworks/R.framework/Resources/bin/R CMD INSTALL ChIPseeker StartedAt: 2025-02-03 16:18:47 -0500 (Mon, 03 Feb 2025) EndedAt: 2025-02-03 16:20:29 -0500 (Mon, 03 Feb 2025) EllapsedTime: 101.2 seconds RetCode: 0 Status: OK