Package: ChIPseeker Version: 1.42.1 Command: /home/biocbuild/bbs-3.20-bioc/R/bin/R CMD build --keep-empty-dirs --no-resave-data --md5 ChIPseeker StartedAt: 2025-01-30 16:39:37 -0500 (Thu, 30 Jan 2025) EndedAt: 2025-01-30 16:45:56 -0500 (Thu, 30 Jan 2025) EllapsedTime: 379.4 seconds RetCode: 0 Status: OK PackageFile: ChIPseeker_1.42.1.tar.gz PackageFileSize: 7.243 MiB